BEGIN:VCALENDAR
VERSION:2.0
PRODID:-//GatherPress//RemoteApi//EN
BEGIN:VEVENT
URL:https://communistvanguard.org/event/no-matter-who-you-vote-for-capital-has-already-won/
DTSTART:20260505T191500Z
DTEND:20260505T211500Z
DTSTAMP:20260410T101929Z
SUMMARY:No matter who you vote for\, capital has already wo\n
DESCRIPTION:For details go to https://commu\nistva\nguard.org/eve\nt/\no-matter-who-you-vote-for-capital-has-already-wo\n/
LOCATION:MayDay Rooms\, 88 Fleet St\, Lo\ndo\n EC4Y 1DH
UID:gatherpress_3013
END:VEVENT
END:VCALENDAR
